BEGIN:VCALENDAR
VERSION:2.0
PRODID:-//Peace Filled Mental Health Counseling Services - ECPv6.15.20//NONSGML v1.0//EN
CALSCALE:GREGORIAN
METHOD:PUBLISH
X-WR-CALNAME:Peace Filled Mental Health Counseling Services
X-ORIGINAL-URL:https://peacefilledcs.com
X-WR-CALDESC:Events for Peace Filled Mental Health Counseling Services
REFRESH-INTERVAL;VALUE=DURATION:PT1H
X-Robots-Tag:noindex
X-PUBLISHED-TTL:PT1H
BEGIN:VTIMEZONE
TZID:America/New_York
BEGIN:DAYLIGHT
TZOFFSETFROM:-0500
TZOFFSETTO:-0400
TZNAME:EDT
DTSTART:20230312T070000
END:DAYLIGHT
BEGIN:STANDARD
TZOFFSETFROM:-0400
TZOFFSETTO:-0500
TZNAME:EST
DTSTART:20231105T060000
END:STANDARD
BEGIN:DAYLIGHT
TZOFFSETFROM:-0500
TZOFFSETTO:-0400
TZNAME:EDT
DTSTART:20240310T070000
END:DAYLIGHT
BEGIN:STANDARD
TZOFFSETFROM:-0400
TZOFFSETTO:-0500
TZNAME:EST
DTSTART:20241103T060000
END:STANDARD
BEGIN:DAYLIGHT
TZOFFSETFROM:-0500
TZOFFSETTO:-0400
TZNAME:EDT
DTSTART:20250309T070000
END:DAYLIGHT
BEGIN:STANDARD
TZOFFSETFROM:-0400
TZOFFSETTO:-0500
TZNAME:EST
DTSTART:20251102T060000
END:STANDARD
END:VTIMEZONE
BEGIN:VEVENT
DTSTART;TZID=America/New_York:20240703T170000
DTEND;TZID=America/New_York:20240703T180000
DTSTAMP:20260419T174116
CREATED:20240507T231146Z
LAST-MODIFIED:20240507T231333Z
UID:2546-1720026000-1720029600@peacefilledcs.com
SUMMARY:PARENTING: SIPS & TIPS
DESCRIPTION:Cost: $40
URL:https://peacefilledcs.com/event/parenting-sips-tips-19/
LOCATION:34 Court Street
CATEGORIES:Parenting Workshop
ATTACH;FMTTYPE=image/png:https://peacefilledcs.com/wp-content/uploads/2024/04/11.png
ORGANIZER;CN="Peace-Filled Mental Health Counseling Services":MAILTO:info@peacefilledcs.com
END:VEVENT
BEGIN:VEVENT
DTSTART;TZID=America/New_York:20240709T183000
DTEND;TZID=America/New_York:20240709T193000
DTSTAMP:20260419T174116
CREATED:20240507T230152Z
LAST-MODIFIED:20240507T230152Z
UID:2536-1720549800-1720553400@peacefilledcs.com
SUMMARY:PARENTING: SIPS & TIPS
DESCRIPTION:  \nCost: $40
URL:https://peacefilledcs.com/event/parenting-sips-tips-15/
LOCATION:Virtual
CATEGORIES:Parenting Workshop
ATTACH;FMTTYPE=image/png:https://peacefilledcs.com/wp-content/uploads/2024/04/21.png
ORGANIZER;CN="Peace-Filled Mental Health Counseling Services":MAILTO:info@peacefilledcs.com
END:VEVENT
BEGIN:VEVENT
DTSTART;TZID=America/New_York:20240716T183000
DTEND;TZID=America/New_York:20240716T193000
DTSTAMP:20260419T174116
CREATED:20240507T230237Z
LAST-MODIFIED:20240507T230237Z
UID:2538-1721154600-1721158200@peacefilledcs.com
SUMMARY:PARENTING: SIPS & TIPS
DESCRIPTION:  \nCost: $40
URL:https://peacefilledcs.com/event/parenting-sips-tips-16/
LOCATION:Virtual
CATEGORIES:Parenting Workshop
ATTACH;FMTTYPE=image/png:https://peacefilledcs.com/wp-content/uploads/2024/04/21.png
ORGANIZER;CN="Peace-Filled Mental Health Counseling Services":MAILTO:info@peacefilledcs.com
END:VEVENT
BEGIN:VEVENT
DTSTART;TZID=America/New_York:20240730T183000
DTEND;TZID=America/New_York:20240730T193000
DTSTAMP:20260419T174116
CREATED:20240507T225801Z
LAST-MODIFIED:20240507T230651Z
UID:2522-1722364200-1722367800@peacefilledcs.com
SUMMARY:PARENTING: SIPS & TIPS
DESCRIPTION:  \nCost: $40
URL:https://peacefilledcs.com/event/parenting-sips-tips-8/
LOCATION:Virtual
CATEGORIES:Parenting Workshop
ATTACH;FMTTYPE=image/png:https://peacefilledcs.com/wp-content/uploads/2024/04/21.png
ORGANIZER;CN="Peace-Filled Mental Health Counseling Services":MAILTO:info@peacefilledcs.com
END:VEVENT
END:VCALENDAR